BEGIN:VCALENDAR
VERSION:2.0
PRODID:-//AGUAV - Associazione Genitori ed Utenti Audiovestibologia Varese ODV - E.T.S. - ECPv5.1.5//NONSGML v1.0//EN
CALSCALE:GREGORIAN
METHOD:PUBLISH
X-WR-CALNAME:AGUAV - Associazione Genitori ed Utenti Audiovestibologia Varese ODV - E.T.S.
X-ORIGINAL-URL:https://www.aguav.it
X-WR-CALDESC:Eventi per AGUAV - Associazione Genitori ed Utenti Audiovestibologia Varese ODV - E.T.S.
BEGIN:VTIMEZONE
TZID:Europe/Rome
BEGIN:DAYLIGHT
TZOFFSETFROM:+0100
TZOFFSETTO:+0200
TZNAME:CEST
DTSTART:20190331T010000
END:DAYLIGHT
BEGIN:STANDARD
TZOFFSETFROM:+0200
TZOFFSETTO:+0100
TZNAME:CET
DTSTART:20191027T010000
END:STANDARD
END:VTIMEZONE
BEGIN:VEVENT
DTSTART;VALUE=DATE:20190510
DTEND;VALUE=DATE:20190512
DTSTAMP:20260419T122948
CREATED:20190520T095715Z
LAST-MODIFIED:20200622T091325Z
UID:5989-1557453600-1557539999@www.aguav.it
SUMMARY:corso #Vertigo3DBaby
DESCRIPTION:\nLe vertigini nei bambini ????????\n???? Un evento per imparare come riconoscerle e curarle\nAnche i bambini possono soffrire di vertigini e pochi lo sanno.\nQuali sono gli strumenti per la diagnosi e ci sono terapie indicate?\nLo scopriranno sabato prossimo\, 5 ottobre\, i partecipanti al corso #Vertigo3DBaby\, organizzato dall&#8217;ASST dei Sette Laghi con la responsabilità scientifica della Dott.ssa Eliana Cristofari\, Responsabile dell&#8217;Audiovestibologia dell&#8217;Ospedale di Circolo.\nL&#8217;evento offrirà anche l&#8217;occasione per esercitarsi con le nuove tecnologie disponibili e sperimentare interessanti e innovative tecniche di riabilitazione. \n
URL:https://www.aguav.it/event/corso-vertigo3dbaby/
LOCATION:ASST dei Sette Laghi\, Viale Luigi Borri\, 57\, Varese\, Varese\, Italy
ATTACH;FMTTYPE=image/jpeg:https://www.aguav.it/wp-content/uploads/2018/08/71374143_2305773203086013_3504280502754344960_o.jpg
END:VEVENT
END:VCALENDAR