BEGIN:VCALENDAR
VERSION:2.0
PRODID:-//AGUAV - Associazione Genitori ed Utenti Audiovestibologia Varese ODV - E.T.S. - ECPv5.1.5//NONSGML v1.0//EN
CALSCALE:GREGORIAN
METHOD:PUBLISH
X-WR-CALNAME:AGUAV - Associazione Genitori ed Utenti Audiovestibologia Varese ODV - E.T.S.
X-ORIGINAL-URL:https://www.aguav.it
X-WR-CALDESC:Eventi per AGUAV - Associazione Genitori ed Utenti Audiovestibologia Varese ODV - E.T.S.
BEGIN:VTIMEZONE
TZID:Europe/Rome
BEGIN:DAYLIGHT
TZOFFSETFROM:+0100
TZOFFSETTO:+0200
TZNAME:CEST
DTSTART:20190331T010000
END:DAYLIGHT
BEGIN:STANDARD
TZOFFSETFROM:+0200
TZOFFSETTO:+0100
TZNAME:CET
DTSTART:20191027T010000
END:STANDARD
END:VTIMEZONE
BEGIN:VEVENT
DTSTART;TZID=Europe/Rome:20190329T140000
DTEND;TZID=Europe/Rome:20190511T190000
DTSTAMP:20260419T122644
CREATED:20190329T090358Z
LAST-MODIFIED:20200622T091305Z
UID:9311-1553868000-1557601200@www.aguav.it
SUMMARY:La Sordità: Nuove prospettive di intervento educativo
DESCRIPTION:\nDedicato ad insegnanti ed educatori: parte il primo corso di formazione organizzato dal nostro responsabile scientifico dott Eliana Cristofari\, col supporto di Aguav. Invitiamo insegnanti\, pedagogisti\, educatori a partecipare. È un’occasione unica per approfondire le tematiche della riabilitazione uditiva\, protesi acustiche e necessità educative dei bambini e ragazzi ipoacusici. Diffondiamo cultura. \n
URL:https://www.aguav.it/event/la-sordita-nuove-prospettive-di-intervento-educativo/
ATTACH;FMTTYPE=image/jpeg:https://www.aguav.it/wp-content/uploads/2020/06/48062946_2425564954126713_2693170792123858944_n.jpg
END:VEVENT
END:VCALENDAR